BEGIN:VCALENDAR
VERSION:2.0
PRODID:-//NZEB - ECPv6.1.3//NONSGML v1.0//EN
CALSCALE:GREGORIAN
METHOD:PUBLISH
X-ORIGINAL-URL:https://nzeb.in
X-WR-CALDESC:Events for NZEB
REFRESH-INTERVAL;VALUE=DURATION:PT1H
X-Robots-Tag:noindex
X-PUBLISHED-TTL:PT1H
BEGIN:VTIMEZONE
TZID:Asia/Kolkata
BEGIN:STANDARD
TZOFFSETFROM:+0530
TZOFFSETTO:+0530
TZNAME:IST
DTSTART:20240101T000000
END:STANDARD
END:VTIMEZONE
BEGIN:VEVENT
DTSTART;VALUE=DATE:20240829
DTEND;VALUE=DATE:20240830
DTSTAMP:20260420T084056
CREATED:20240729T090054Z
LAST-MODIFIED:20240729T090054Z
UID:18219-1724889600-1724975999@nzeb.in
SUMMARY:Online Training Programme on GRIHA Existing Building (EB) | August 09\, 2024
DESCRIPTION:GRIHA Council is organizing a one-day online training programme designed to equip building owners\, operators\, and facility managers with the knowledge and tools to transform existing buildings into sustainable spaces. \nThe intensive online program deep dives into the GRIHA EB rating system. Participants will gain the knowledge and skills necessary to contribute to a more sustainable future for affordable housing in India. Register Now
URL:https://nzeb.in/event/online-training-programme-on-griha-existing-building-eb-august-09-2024/
END:VEVENT
END:VCALENDAR