BEGIN:VCALENDAR
VERSION:2.0
PRODID:-//NZEB - ECPv6.1.3//NONSGML v1.0//EN
CALSCALE:GREGORIAN
METHOD:PUBLISH
X-ORIGINAL-URL:https://nzeb.in
X-WR-CALDESC:Events for NZEB
REFRESH-INTERVAL;VALUE=DURATION:PT1H
X-Robots-Tag:noindex
X-PUBLISHED-TTL:PT1H
BEGIN:VTIMEZONE
TZID:Asia/Kolkata
BEGIN:STANDARD
TZOFFSETFROM:+0530
TZOFFSETTO:+0530
TZNAME:IST
DTSTART:20240101T000000
END:STANDARD
END:VTIMEZONE
BEGIN:VEVENT
DTSTART;VALUE=DATE:20240604
DTEND;VALUE=DATE:20240607
DTSTAMP:20260420T121600
CREATED:20231023T061529Z
LAST-MODIFIED:20240129T053350Z
UID:17777-1717459200-1717718399@nzeb.in
SUMMARY:Sustainable Energy for All Global Forum | June 04-06\,2024
DESCRIPTION:The 2024 Sustainable Energy for All Global Forum will be held in Bridgetown\, Barbados from 4-6 June\, co-hosted by Sustainable Energy for All (SEforALL) and the Government of Barbados\, led by Prime Minister Mia Amor Mottley. \nIt is a platform for government\, business and finance leaders\, entrepreneurs\, youth and community representatives from around the world to come together to broker new partnerships\, spur new investment and address challenges at the nexus of energy\, climate and development. Read More
URL:https://nzeb.in/event/sustainable-energy-for-all-global-forum-june-04-062024/
END:VEVENT
BEGIN:VEVENT
DTSTART;VALUE=DATE:20240605
DTEND;VALUE=DATE:20240607
DTSTAMP:20260420T121600
CREATED:20240424T041937Z
LAST-MODIFIED:20240424T041937Z
UID:18164-1717545600-1717718399@nzeb.in
SUMMARY:Summer Sustainability Summit 2024 | June 05 – June 06\, 2024
DESCRIPTION:Join the two-day online event focused on sustainable construction and manufacturing. The Summit is relevant for professionals in architecture\, engineering\, construction\, manufacturing\, and sustainability. \nListen to top global speakers including the CEO of WorldGBC\, the VP of Sustainability at Schneider Electric\, the Director of Sustainable Business Development at Saint-Gobain\, the Sustainability Strategy Lead at Autodesk\, and the Head of Sustainability at CBRE. Register Here
URL:https://nzeb.in/event/summer-sustainability-summit-2024-june-05-june-06-2024/
END:VEVENT
BEGIN:VEVENT
DTSTART;VALUE=DATE:20240619
DTEND;VALUE=DATE:20240622
DTSTAMP:20260420T121600
CREATED:20240522T041654Z
LAST-MODIFIED:20240522T042145Z
UID:18173-1718755200-1719014399@nzeb.in
SUMMARY:Net-Zero Future Conference | June 19 – June 21\, 2024
DESCRIPTION:The Net-Zero Future conference is an international event dedicated to advancing research\, innovation\, and collaboration in pursuing a sustainable and net-zero carbon built environment. This inaugural conference aims to bring together leading experts\, researchers\, practitioners\, and stakeholders worldwide to accelerate the transition towards a greener and more sustainable future. The conference will be held in Oslo\, Norway\, from June 19th-21st. Register Here
URL:https://nzeb.in/event/net-zero-future-conference-june-19-june-21-2024/
END:VEVENT
END:VCALENDAR