BEGIN:VCALENDAR
VERSION:2.0
PRODID:-//NZEB - ECPv6.1.3//NONSGML v1.0//EN
CALSCALE:GREGORIAN
METHOD:PUBLISH
X-ORIGINAL-URL:https://nzeb.in
X-WR-CALDESC:Events for NZEB
REFRESH-INTERVAL;VALUE=DURATION:PT1H
X-Robots-Tag:noindex
X-PUBLISHED-TTL:PT1H
BEGIN:VTIMEZONE
TZID:Asia/Kolkata
BEGIN:STANDARD
TZOFFSETFROM:+0530
TZOFFSETTO:+0530
TZNAME:IST
DTSTART:20240101T000000
END:STANDARD
END:VTIMEZONE
BEGIN:VEVENT
DTSTART;VALUE=DATE:20240520
DTEND;VALUE=DATE:20240521
DTSTAMP:20260420T134538
CREATED:20240522T041513Z
LAST-MODIFIED:20240522T041513Z
UID:18171-1716163200-1716249599@nzeb.in
SUMMARY:Charting the Path to Net Zero – Strategies for Cities to Decarbonize Buildings | May 20\, 2024
DESCRIPTION:Cities Climate Finance Leadership Alliance (CCFLA) is launching its Net Zero Carbon Buildings Policy and Finance Portal\, which is a searchable database of policy and financing instruments for cities to use to catalyze building decarbonization. This event aims to bring together stakeholders across the urban and net zero carbon buildings sector to discuss the economic and financial climate progress the buildings sector has made so far\, and to deliberate on how we can best bring about a transformational change in the short amount of time we have left to realize cities’ green future. Register Here
URL:https://nzeb.in/event/charting-the-path-to-net-zero-strategies-for-cities-to-decarbonize-buildings-may-20-2024/
END:VEVENT
END:VCALENDAR