BEGIN:VCALENDAR
VERSION:2.0
PRODID:-//NZEB - ECPv6.1.3//NONSGML v1.0//EN
CALSCALE:GREGORIAN
METHOD:PUBLISH
X-WR-CALNAME:NZEB
X-ORIGINAL-URL:https://nzeb.in
X-WR-CALDESC:Events for NZEB
REFRESH-INTERVAL;VALUE=DURATION:PT1H
X-Robots-Tag:noindex
X-PUBLISHED-TTL:PT1H
BEGIN:VTIMEZONE
TZID:Asia/Kolkata
BEGIN:STANDARD
TZOFFSETFROM:+0530
TZOFFSETTO:+0530
TZNAME:IST
DTSTART:20240101T000000
END:STANDARD
END:VTIMEZONE
BEGIN:VEVENT
DTSTART;VALUE=DATE:20240411
DTEND;VALUE=DATE:20240412
DTSTAMP:20260420T151114
CREATED:20240410T102111Z
LAST-MODIFIED:20240410T102111Z
UID:18157-1712793600-1712879999@nzeb.in
SUMMARY:Decarbonizing Built Environment | April 11\, 2024
DESCRIPTION:TiE Bangalore along with Greenhouse and EcoCollab is hosting the India Australia Climate Forum and is bringing cross-border insights from eminent speakers regarding Building Decarbonization. \nJoin the discussion on April 11th\, 2024\, from 11:00 AM to 12:30 PM IST | 3:30 PM to 5:00 PM (AEST) delving into the “Decarbonizing Built Environment” – a crucial endeavor in combating climate challenges in India and Australia. This online event will feature renowned speakers sharing their expertise on decarbonizing electricity\, transport\, built environment\, and agriculture. Register Here
URL:https://nzeb.in/event/decarbonizing-built-environment-april-11-2024/
END:VEVENT
BEGIN:VEVENT
DTSTART;VALUE=DATE:20240416
DTEND;VALUE=DATE:20240419
DTSTAMP:20260420T151114
CREATED:20240410T101709Z
LAST-MODIFIED:20240410T101709Z
UID:18153-1713225600-1713484799@nzeb.in
SUMMARY:The World Future Energy Summit | April 16 – 18\, 2024
DESCRIPTION:The World Future Energy Summit is a global think tank\, powered by global innovation\, pioneering minds and groundbreaking insights. Bringing together industry influencers\, problem solvers and cutting-edge solutions\, the summit focuses on creating the blueprints for a sustainable future. It  will feature sustainable materials for spaces\, biodegradable materials\, recycling bins\, paperless registration\, and various other sustainable features. The venue for the event is ADNEC\, Abu Dhabi. Read More
URL:https://nzeb.in/event/the-world-future-energy-summit-april-16-18-2024/
END:VEVENT
BEGIN:VEVENT
DTSTART;VALUE=DATE:20240418
DTEND;VALUE=DATE:20240419
DTSTAMP:20260420T151114
CREATED:20240410T102004Z
LAST-MODIFIED:20240410T102004Z
UID:18155-1713398400-1713484799@nzeb.in
SUMMARY:India Solar Market Conference | April 18\, 2024
DESCRIPTION:JMK Research is organizing the “India Solar Market Conference” on April 18th\, 2024\, at Le Méridien\, Connaught Place\, Delhi. The event aims to witness engaging discussions on evolving technology trends\, emerging policy and regulatory frameworks\, and outlook related to solar energy in India. Read More
URL:https://nzeb.in/event/india-solar-market-conference-april-18-2024/
END:VEVENT
BEGIN:VEVENT
DTSTART;VALUE=DATE:20240423
DTEND;VALUE=DATE:20240425
DTSTAMP:20260420T151114
CREATED:20240424T042058Z
LAST-MODIFIED:20240424T042058Z
UID:18166-1713830400-1714003199@nzeb.in
SUMMARY:Smart Lighting Tech | April 23 – April 24\, 2024
DESCRIPTION:Join the 2nd Smart LightingTech UAE Summit taking place on the 23 – 24 April 2024 at Millennium Airport Hotel\, Dubai\, UAE. \nThis 2-day Summit will gather governments\, project owners\, consultants\, designers\, developers and key stakeholders to discuss the latest urban projects and innovative solutions in the field of public realm lighting\, exterior and outdoor lighting\, and the future of smart integrated lighting solutions. \nDownload the brochure to view the programme and list of speakers Here
URL:https://nzeb.in/event/smart-lighting-tech-april-23-april-24-2024/
END:VEVENT
BEGIN:VEVENT
DTSTART;VALUE=DATE:20240425
DTEND;VALUE=DATE:20240426
DTSTAMP:20260420T151114
CREATED:20240424T042206Z
LAST-MODIFIED:20240424T042206Z
UID:18168-1714003200-1714089599@nzeb.in
SUMMARY:The Short List Of Climate Actions That Will Work – Wind And Solar – But What Else? | April 25\, 2024
DESCRIPTION:The India Smart Grid Forum is hosting a webinar titled ‘The Short List Of Climate Actions That Will Work – Wind And Solar – But What Else?’ featuring a presentation by Michael Barnard\, Founder of ‘The Future is Electric.’ \nThis engaging webinar will be moderated by Reji Pillai\, President of India Smart Grid Forum. Join on 25 April 2024\, from 07:30 to 08:30 IST. The webinar will discuss the likely end-game mix of global electricity generation\, highlighting diverse generation types and co-benefits. Register Here
URL:https://nzeb.in/event/the-short-list-of-climate-actions-that-will-work-wind-and-solar-but-what-else-april-25-2024/
END:VEVENT
END:VCALENDAR