BEGIN:VCALENDAR
VERSION:2.0
PRODID:-//NZEB - ECPv6.1.3//NONSGML v1.0//EN
CALSCALE:GREGORIAN
METHOD:PUBLISH
X-ORIGINAL-URL:https://nzeb.in
X-WR-CALDESC:Events for NZEB
REFRESH-INTERVAL;VALUE=DURATION:PT1H
X-Robots-Tag:noindex
X-PUBLISHED-TTL:PT1H
BEGIN:VTIMEZONE
TZID:Asia/Kolkata
BEGIN:STANDARD
TZOFFSETFROM:+0530
TZOFFSETTO:+0530
TZNAME:IST
DTSTART:20210101T000000
END:STANDARD
END:VTIMEZONE
BEGIN:VEVENT
DTSTART;TZID=Asia/Kolkata:20210908T080000
DTEND;TZID=Asia/Kolkata:20210909T170000
DTSTAMP:20260423T015549
CREATED:20210908T023000Z
LAST-MODIFIED:20210111T063533Z
UID:15822-1631088000-1631206800@nzeb.in
SUMMARY:International Conference on Sustainable Development 2021
DESCRIPTION:European Center of Sustainable Development in collaboration with Canadian Institute of Technology  will organize the 9th ICSD 2021 International Conference on Sustainable Development\, with particular focus on Environmental\, Economic and Socio-Cultural Sustainability. \nThe Conference theme is: “Creating a unified foundation for the Sustainable Development: research\, practice and education”. The 9th ICSD 2021 will be an excellent opportunity to share ideas and research findings relevant to the Sustainability Science\, through the European network of academics. \nThis interdisciplinary forum is for scholars\, teachers\, and practitioners from any professional discipline who share an interest in—and concern for— sustainability in an holistic perspective\, where environmental\, cultural\, economic and social concerns intersect.
URL:https://nzeb.in/event/international-conference-on-sustainable-development-2021/
LOCATION:Roma Eventi\, Congress Center\, Piazza della Pilotta\, 4\, Rome\, Italy
END:VEVENT
BEGIN:VEVENT
DTSTART;TZID=Asia/Kolkata:20210916T160000
DTEND;TZID=Asia/Kolkata:20210916T170000
DTSTAMP:20260423T015549
CREATED:20210916T103000Z
LAST-MODIFIED:20210908T123437Z
UID:16504-1631808000-1631811600@nzeb.in
SUMMARY:NZEB Knowledge Series-Green Conversations: Organic India Integrated Facility
DESCRIPTION:The 12 million square feet Integrated Production Facility for Organic India in Lucknow is a campus designed to support the production\, processing\, and administrative functions of the holistic wellness brand. This building imbibes local influences to create a sustainable built environment. A gamut of passive design techniques – including terracotta filler slabs in the large-span spaces\, and recessed openings to cut out the solar glare\, courtyards and lightwells\, among other interventions have accorded the project a LEED Platinum rating. This live webinar will bring together Mr. Balram Singh (COO\, Organic India)\, Mr. Siddhartha Talwar (Principal\, Studio Lotus)\, Mr. Gurneet Singh (Director\, EDS) showcasing the project features\, sharing their experience about bringing this project to life and their perspectives on sustainability. This webinar is part of ‘NZEB Knowledge Series’ – an initiative supported by USAID’s MAITREE program (http://maitree.edsglobal.com) to accelerate the discussions and catalyse actions on Net Zero Energy Buildings in India.
URL:https://nzeb.in/event/green-conversations-organic-india-integrated-facility/
LOCATION:online event
ORGANIZER;CN="NZEB%20Team":MAILTO:nzeb@edsglobal.com
END:VEVENT
BEGIN:VEVENT
DTSTART;TZID=Asia/Kolkata:20210921T080000
DTEND;TZID=Asia/Kolkata:20210923T170000
DTSTAMP:20260423T015549
CREATED:20210908T122544Z
LAST-MODIFIED:20210908T122544Z
UID:16506-1632211200-1632416400@nzeb.in
SUMMARY:Greenbuild
DESCRIPTION:Greenbuild is the annual flagship event of the United States Green Building Council (USGBC) for green building professionals worldwide where attendees learn and source solutions to improve resilience\, sustainability and quality of life in our buildings\, cities and communities. The hybrid event will be conducted in San Diego. \nThe Greenbuild International Conference & Expo is presented in partnership with USGBC\, a mission focused organization committed to a prosperous and sustainable future through cost-efficient and energy-saving green buildings.
URL:https://nzeb.in/event/greenbuild/
LOCATION:online event
END:VEVENT
END:VCALENDAR