BEGIN:VCALENDAR
VERSION:2.0
PRODID:-//NZEB - ECPv6.1.3//NONSGML v1.0//EN
CALSCALE:GREGORIAN
METHOD:PUBLISH
X-WR-CALNAME:NZEB
X-ORIGINAL-URL:https://nzeb.in
X-WR-CALDESC:Events for NZEB
REFRESH-INTERVAL;VALUE=DURATION:PT1H
X-Robots-Tag:noindex
X-PUBLISHED-TTL:PT1H
BEGIN:VTIMEZONE
TZID:Asia/Kolkata
BEGIN:STANDARD
TZOFFSETFROM:+0530
TZOFFSETTO:+0530
TZNAME:IST
DTSTART:20200101T000000
END:STANDARD
END:VTIMEZONE
BEGIN:VEVENT
DTSTART;VALUE=DATE:20200901
DTEND;VALUE=DATE:20200904
DTSTAMP:20260422T074216
CREATED:20190625T221129Z
LAST-MODIFIED:20190625T221129Z
UID:11052-1598918400-1599177599@nzeb.in
SUMMARY:35th PLEA CONFERENCE | Planning Post Carbon Cities
DESCRIPTION:PLEA stands for “Passive and Low Energy Architecture”\, a commitment to the development\, documentation and diffusion of the principles of bioclimatic design and the application of natural and innovative techniques for sustainable architecture and urban design. \nPLEA 2020 is organized by the University of A Coruña. The theme of PLEA 2020 is Planning Post Carbon Cities and will explore the interplay between research\, technology and design in defining and planning future cities. It is the aim of the conference to bring together designers\, academics\, researchers\, students\, and professionals in the pursuit of better and more sustainable environments.
URL:https://nzeb.in/event/35th-plea-conference-planning-post-carbon-cities/
LOCATION:UDC School of Economics and Business\, 15008 \, A Coruña\, Spain
END:VEVENT
BEGIN:VEVENT
DTSTART;TZID=Asia/Kolkata:20200917T080000
DTEND;TZID=Asia/Kolkata:20201029T170000
DTSTAMP:20260422T074216
CREATED:20201006T045707Z
LAST-MODIFIED:20201019T110104Z
UID:14429-1600329600-1603990800@nzeb.in
SUMMARY:NZ20 | Net Zero Webinar Series
DESCRIPTION:The Net Zero Webinar Series is an ongoing platform for you to expand your knowledge of innovations and trends in climate\, carbon\, energy\, water\, waste\, and transit together to build a net zero future for all people. \nThe series allows the experts to extend the programming beyond a two-day conference and highlight educational content that drills down on a particular topic or theme on an ongoing basis.
URL:https://nzeb.in/event/nz20-net-zero-webinar-series/
LOCATION:Online Live Webinar
ORGANIZER;CN="Verdical%20Group":MAILTO:hello@verdicalevents.com
END:VEVENT
BEGIN:VEVENT
DTSTART;TZID=Asia/Kolkata:20200920T080000
DTEND;TZID=Asia/Kolkata:20201008T170000
DTSTAMP:20260422T074216
CREATED:20201006T050538Z
LAST-MODIFIED:20201019T105043Z
UID:14436-1600588800-1602176400@nzeb.in
SUMMARY:24th In­ter­na­tion­al Pass­ive House Con­fer­en­ce
DESCRIPTION:The 24th In­ter­na­tion­al Pass­ive House Con­fer­en­ce\, this year for the first time as a VIR­TU­AL con­fer­en­ce was held from 20 Septem­ber to 08 Oc­to­ber 2020\, con­fer­en­ce par­ti­cipants and vis­it­ors of the ex­hib­i­tion had the chance to dis­cov­er the con­fer­en­ce pro­gramme\, with more that 90 speak­ers in lec­ture and build­ing tour ses­sions\, and ON­LINE Pass­ive House Ex­hib­i­tion.
URL:https://nzeb.in/event/24th-international-passive-house-conference/
LOCATION:online event
END:VEVENT
BEGIN:VEVENT
DTSTART;VALUE=DATE:20200930
DTEND;VALUE=DATE:20201003
DTSTAMP:20260422T074216
CREATED:20201008T035542Z
LAST-MODIFIED:20201008T035542Z
UID:14548-1601424000-1601683199@nzeb.in
SUMMARY:Net Zero Festival 2020
DESCRIPTION:The world’s first Net Zero Festival will now take place virtually across 3 days\, from Wednesday 30 September – Friday 2 October 2020\, each day dedicated to a different theme – leadership\, innovation and culture – with action being the overarching theme for the entire Festival. \nBuildingGreen will bring together top business leaders\, influential academics and policymakers\, and inspirational thinkers to provide an invaluable guide to the economic and industrial revolution that will define the post-Covid world.
URL:https://nzeb.in/event/net-zero-festival-2020/
END:VEVENT
END:VCALENDAR