BEGIN:VCALENDAR
VERSION:2.0
PRODID:-//NZEB - ECPv6.1.3//NONSGML v1.0//EN
CALSCALE:GREGORIAN
METHOD:PUBLISH
X-WR-CALNAME:NZEB
X-ORIGINAL-URL:https://nzeb.in
X-WR-CALDESC:Events for NZEB
REFRESH-INTERVAL;VALUE=DURATION:PT1H
X-Robots-Tag:noindex
X-PUBLISHED-TTL:PT1H
BEGIN:VTIMEZONE
TZID:Asia/Kolkata
BEGIN:STANDARD
TZOFFSETFROM:+0530
TZOFFSETTO:+0530
TZNAME:IST
DTSTART:20200101T000000
END:STANDARD
END:VTIMEZONE
BEGIN:VEVENT
DTSTART;TZID=Asia/Kolkata:20200605T160000
DTEND;TZID=Asia/Kolkata:20200605T170000
DTSTAMP:20260422T031554
CREATED:20200601T091805Z
LAST-MODIFIED:20200601T110121Z
UID:12852-1591372800-1591376400@nzeb.in
SUMMARY:Post-COVID Zero Waste Management Strategies
DESCRIPTION:Mixed waste has been identified as a potentially dangerous carrier of the COVID-19 virus\, right from its generation to collection and subsequent disposal. Pollution Control Boards at State and Central level in India are developing several guidelines to promote proper waste management amidst the pandemic\, while leveraging existing programs like the Swachh Bharat Abhiyan. Can we carry this momentum forward towards achieving zero-waste in our buildings? Zero-waste facilities are well positioned to meet the guidelines for disease control while reducing landfill waste by 90%. This webinar examines practical and easy-to-implement zero waste strategies for the Post-COVID scenario in India. \nAbout the speakers: \nShobha Raghavan is Chief Operating Officer at Saahas Zero Waste where she leads the operational strategy to ensure growth and scale-up of a niche industry. She also connects actively with her community to build waste champions. \nHiren Bhagat is a Senior Associate Director at Environmental Design Solutions [EDS] \,Mumbai where he leads the Zero Waste division. A LEED AP\, WELL AP and a TRUE Advisor\, he specializes in Building Energy Efficiency\, Green building design\, Occupant Health & Wellness and Zero Waste Facility Operations. He has worked on more than 120 projects for developers\, multinational banks\, IT companies\, housing and hospitality industry. \nThis webinar is part of ‘NZEB Knowledge Series’ – an initiative supported by USAID’s MAITREE program (http://maitree.edsglobal.com) to accelerate the discussions and catalyse actions on Net Zero Energy Buildings in India.
URL:https://nzeb.in/event/post-covid-zero-waste-management-strategies/
LOCATION:Online Live Webinar
ORGANIZER;CN="EDS":MAILTO:education@edsglobal.com
END:VEVENT
BEGIN:VEVENT
DTSTART;VALUE=DATE:20200622
DTEND;VALUE=DATE:20200705
DTSTAMP:20260422T031554
CREATED:20200519T065415Z
LAST-MODIFIED:20200608T131841Z
UID:12811-1592784000-1593907199@nzeb.in
SUMMARY:Online course for LEED GA Exam preparation
DESCRIPTION:2-week online certificate course for professionals and students to prepare for LEED Green Associate Exam \nProgram Dates: 22nd June\, 2020 – 4th July\, 2020 \nProgram Fee\nProfessionals – INR 6\,500\nStudents – INR 5\,000\nEarly Bird – INR 4\,000\nUse Code ELYBDGA2020 to avail early bird discount until 8th June\, 2020 \nLEED or Leadership in Energy and Environmental Design is the most widely used green building rating system in the world. A LEED credential denotes proficiency in today’s sustainable design\, construction and operations standards. Passing a LEED exam sets you apart from the pack by validating your field expertise. This online training program will help you prepare and ace the LEED GA exam in 2 weeks while you are working full time. The course content is concise and to-the-point geared to give you the necessary knowledge required to learn about LEED and will give you the confidence to crack the exam. \nWHO IS THIS PROGRAM FOR?\n• If you want to stand apart from the pack in the green building industry\, then becoming a LEED GA is the first step. This workshop will help you prepare for that!\n• “I am aware of green building concepts but want to learn about rating systems” – If this is you\, then this workshop is right for you.\n• If you are looking for a professional credential that will add value to your expertise\, then LEED GA is the first step and this program will prepare you for the exam.\n• If you have been wanting to take the LEED GA exam\, but did not know where to start\, this workshop is for you!\n• If you are a busy professional who does not have the time to research and look up resources for exam prep\, this course is exactly what you are looking for!\n• Architects\, engineers\, product manufacturers\, real estate professionals\, green building consultants\, students\, faculty\, and all professionals associated with the building industry can take this workshop. \nLEARNING OBJECTIVES\n• Understand LEED GA exam structure\n• Clarity of green building fundamentals\n• Describe LEED Process\, Sustainable Thinking and Core Concepts\n• Explain the intent and key concepts for all LEED credits\n• Define steps to LEED Certification \nPROGRAM TAKEAWAYS\n• Access to 11 online course modules\n• Short quiz for each online course module\n• Weekly live webinar with experts for Q/A session\n• Access to online practice tests for two months after the program\n• Reference study material other reading resources\n• Access to 5 GBCI CE credits worth INR 10\,000 for LEED GA credential maintenance after successfully passing the exam \nPROGRAM FORMAT\n• 15 hours of e-learning comfortably spread over 2 weeks.\n• 2 live webinars will be conducted each week \nDetailed program schedule can be found here \nFor any queries\, write to us at <education@edsglobal.com>
URL:https://nzeb.in/event/leed-ga-exam-preparation/
LOCATION:online event
ORGANIZER;CN="EDS":MAILTO:education@edsglobal.com
END:VEVENT
END:VCALENDAR