BEGIN:VCALENDAR
VERSION:2.0
PRODID:-//NZEB - ECPv6.1.3//NONSGML v1.0//EN
CALSCALE:GREGORIAN
METHOD:PUBLISH
X-ORIGINAL-URL:https://nzeb.in
X-WR-CALDESC:Events for NZEB
REFRESH-INTERVAL;VALUE=DURATION:PT1H
X-Robots-Tag:noindex
X-PUBLISHED-TTL:PT1H
BEGIN:VTIMEZONE
TZID:Asia/Kolkata
BEGIN:STANDARD
TZOFFSETFROM:+0530
TZOFFSETTO:+0530
TZNAME:IST
DTSTART:20250101T000000
END:STANDARD
END:VTIMEZONE
BEGIN:VEVENT
DTSTART;VALUE=DATE:20250305
DTEND;VALUE=DATE:20250308
DTSTAMP:20260420T041313
CREATED:20250214T114603Z
LAST-MODIFIED:20250214T114603Z
UID:18369-1741132800-1741391999@nzeb.in
SUMMARY:World Sustainable Development Summit 2025 | March 5-7\, 2025
DESCRIPTION:The World Sustainable Development Summit (WSDS) is the annual flagship multi-stakeholder event organized by The Energy and Resources Institute (TERI). As the only independently convened international summit on sustainable development and the environment based in the Global South\, WSDS provides a unique platform for global leaders and thinkers to come together and address pressing global challenges. \nThe theme of the World Sustainable Development Summit 2025 is “Partnerships for Accelerating Sustainable Development and Climate Solutions.” \n\nVenue: Stein Auditorium\, Indian Habitat Centre\, New Delhi\nTime: 9:30AM to 7:30AM IST\nRegister Now
URL:https://nzeb.in/event/world-sustainable-development-summit-2025-march-5-7-2025/
END:VEVENT
END:VCALENDAR