BEGIN:VCALENDAR
VERSION:2.0
PRODID:-//NZEB - ECPv6.1.3//NONSGML v1.0//EN
CALSCALE:GREGORIAN
METHOD:PUBLISH
X-WR-CALNAME:NZEB
X-ORIGINAL-URL:https://nzeb.in
X-WR-CALDESC:Events for NZEB
REFRESH-INTERVAL;VALUE=DURATION:PT1H
X-Robots-Tag:noindex
X-PUBLISHED-TTL:PT1H
BEGIN:VTIMEZONE
TZID:Asia/Kolkata
BEGIN:STANDARD
TZOFFSETFROM:+0530
TZOFFSETTO:+0530
TZNAME:IST
DTSTART:20250101T000000
END:STANDARD
END:VTIMEZONE
BEGIN:VEVENT
DTSTART;VALUE=DATE:20250301
DTEND;VALUE=DATE:20250313
DTSTAMP:20260419T233503
CREATED:20250214T114752Z
LAST-MODIFIED:20250214T114752Z
UID:18371-1740787200-1741823999@nzeb.in
SUMMARY:Online training program on Energy Audit and Management | March 1-12\, 2025
DESCRIPTION:The Centre for Science and Environment (CSE) is organizing a 12-day online course on energy management and auditing. It covers energy efficiency\, climate change\, and GHG emission mitigation. The course also includes data collection\, sector-wise case studies\, energy consumption analysis\, and performance assessment of electrical and thermal utilities. \nThe training aims to enable professionals to not just reduce energy costs but also improve the overall environmental performance of the entity. \n\nLast date to apply: February 15\, 2025\nRead More
URL:https://nzeb.in/event/online-training-program-on-energy-audit-and-management-march-1-12-2025/
END:VEVENT
END:VCALENDAR