BEGIN:VCALENDAR
VERSION:2.0
PRODID:-//NZEB - ECPv6.1.3//NONSGML v1.0//EN
CALSCALE:GREGORIAN
METHOD:PUBLISH
X-WR-CALNAME:NZEB
X-ORIGINAL-URL:https://nzeb.in
X-WR-CALDESC:Events for NZEB
REFRESH-INTERVAL;VALUE=DURATION:PT1H
X-Robots-Tag:noindex
X-PUBLISHED-TTL:PT1H
BEGIN:VTIMEZONE
TZID:Asia/Kolkata
BEGIN:STANDARD
TZOFFSETFROM:+0530
TZOFFSETTO:+0530
TZNAME:IST
DTSTART:20240101T000000
END:STANDARD
END:VTIMEZONE
BEGIN:VEVENT
DTSTART;VALUE=DATE:20240716
DTEND;VALUE=DATE:20240720
DTSTAMP:20260420T114632
CREATED:20240410T101513Z
LAST-MODIFIED:20240410T101513Z
UID:18151-1721088000-1721433599@nzeb.in
SUMMARY:Future Cities-African Green Building Summit 2024 | July 16 – 19\, 2024
DESCRIPTION:The Future Cities Summit 2024 will delve into the theme “Building Resilient Futures: Integrating Carbon Neutrality\, Circular Economy & Inclusive Urban Development.” The Summit\, which will be held alongside the 2024 Africa Green Building Summit\, emphasizes the importance of urban resilience in shaping the development of African cities. It recognizes that sustainable urbanism goes beyond reducing carbon emissions or implementing green initiatives. Register Here
URL:https://nzeb.in/event/future-cities-african-green-building-summit-2024-july-16-19-2024/
END:VEVENT
END:VCALENDAR