BEGIN:VCALENDAR
VERSION:2.0
PRODID:-//NZEB - ECPv6.1.3//NONSGML v1.0//EN
CALSCALE:GREGORIAN
METHOD:PUBLISH
X-ORIGINAL-URL:https://nzeb.in
X-WR-CALDESC:Events for NZEB
REFRESH-INTERVAL;VALUE=DURATION:PT1H
X-Robots-Tag:noindex
X-PUBLISHED-TTL:PT1H
BEGIN:VTIMEZONE
TZID:Asia/Kolkata
BEGIN:STANDARD
TZOFFSETFROM:+0530
TZOFFSETTO:+0530
TZNAME:IST
DTSTART:20210101T000000
END:STANDARD
END:VTIMEZONE
BEGIN:VEVENT
DTSTART;TZID=Asia/Kolkata:20211026T080000
DTEND;TZID=Asia/Kolkata:20211031T170000
DTSTAMP:20260423T044443
CREATED:20211025T090246Z
LAST-MODIFIED:20211025T090246Z
UID:16590-1635235200-1635699600@nzeb.in
SUMMARY:BEEP Camp 2021 Application (Apply before 31st Oct 2021)
DESCRIPTION:Indo-Swiss Building Energy Efficiency Project (BEEP) organizes an annual camp for students to foster a competent future generation of building design and building energy efficiency professionals in India. \nThe 4th edition of the BEEP Student Camp will be held online from 11th-26th December 2021. \nWho can apply?\n– All engineering and architecture students from 4th year and above\n– Students pursuing post graduate program in the domain of Architecture or Engineering\n– Young Architects and Engineers under 28 years of age \nYou can submit your queries at:\nEmail: pmtu@beepindia.org\nMob: +91 8930303554 (Sneha) | +91 7709817848 (Anandh) \nLast date for submitting application form has been extended to 31st October\, 2021. \nKnow more about the Indo-Swiss Building Energy Efficiency Project and Camp at https://www.beepindia.org/
URL:https://nzeb.in/event/beep-camp-2021-application-apply-before-31st-oct-2021/
LOCATION:online event
END:VEVENT
BEGIN:VEVENT
DTSTART;TZID=Asia/Kolkata:20211027T080000
DTEND;TZID=Asia/Kolkata:20211029T170000
DTSTAMP:20260423T044443
CREATED:20211027T023000Z
LAST-MODIFIED:20201023T145704Z
UID:14892-1635321600-1635526800@nzeb.in
SUMMARY:Getting to Zero Forum 2021
DESCRIPTION:The Getting to Zero Forum is the premier event dedicated to zero energy and zero carbon buildings\, featuring the world’s leading experts who are creating the market-based solutions that are driving a growing movement to define the future of the built environment. It is the only event with a broad cross-section of stakeholders focused on ambitious building efficiency goals and is an ideal venue for organizing both the policy and building communities to achieve zero carbon ambitions. The 2021 Forum will attract more than 800 leading policymakers\, design professionals\, building owners\, systems manufacturers\, and commercial real estate experts.
URL:https://nzeb.in/event/getting-to-zero-forum-2021/
LOCATION:NEW YORK MARRIOTT MARQUIS\, New York
END:VEVENT
BEGIN:VEVENT
DTSTART;TZID=Asia/Kolkata:20211028T203000
DTEND;TZID=Asia/Kolkata:20211028T223000
DTSTAMP:20260423T044443
CREATED:20211025T092044Z
LAST-MODIFIED:20211025T092044Z
UID:16593-1635453000-1635460200@nzeb.in
SUMMARY:Launch of Global Net Zero Standard
DESCRIPTION:The SBTi will host a virtual event in two time zones to launch the world’s first Net-Zero Standard. \nSession 1:10:00am -12:00pm CEST/06:00pm – 08:00pm AEDT\nSession 2: 11:00am – 01:00pmET/05:00pm – 07:00pm CEST \nOn October 28th\, the Science-Based Targets initiative (SBTi) is launching the first science-based framework for companies to set net-zero targets – the Net-Zero Standard. The Standard will clarify the key role of decarbonization in corporate net-zero strategies. \nThis interesting virtual event will present the Standard and examine how corporations may set robust net-zero targets in line with climate science\, with viewpoints from industry\, science\, and civil society. The Net-Zero Standard Launch will highlight the SBTi Net-Zero Standard\, highlight partners and who is driving the charge\, and outline how businesses may achieve net-zero success.
URL:https://nzeb.in/event/launch-of-global-net-zero-standard/
LOCATION:online event
END:VEVENT
END:VCALENDAR