BEGIN:VCALENDAR
VERSION:2.0
PRODID:-//NZEB - ECPv6.1.3//NONSGML v1.0//EN
CALSCALE:GREGORIAN
METHOD:PUBLISH
X-ORIGINAL-URL:https://nzeb.in
X-WR-CALDESC:Events for NZEB
REFRESH-INTERVAL;VALUE=DURATION:PT1H
X-Robots-Tag:noindex
X-PUBLISHED-TTL:PT1H
BEGIN:VTIMEZONE
TZID:Asia/Kolkata
BEGIN:STANDARD
TZOFFSETFROM:+0530
TZOFFSETTO:+0530
TZNAME:IST
DTSTART:20210101T000000
END:STANDARD
END:VTIMEZONE
BEGIN:VEVENT
DTSTART;TZID=Asia/Kolkata:20211018T080000
DTEND;TZID=Asia/Kolkata:20211020T170000
DTSTAMP:20260423T044442
CREATED:20211018T023000Z
LAST-MODIFIED:20201221T071521Z
UID:15516-1634544000-1634749200@nzeb.in
SUMMARY:2021 National Conference on Energy Efficiency as a Resource
DESCRIPTION:The conference will highlight the latest developments in the design and delivery of customer energy efficiency programs and in the regulatory mechanisms that help make them possible. Profound changes in energy technologies\, resources\, and markets are transforming the utility industry. Robust discussion on the many issues being faced by utilities\, particularly to combat climate change and to develop new business and operations models that incorporate energy efficiency in the context of an emerging landscape of distributed energy resources is expected.
URL:https://nzeb.in/event/2021-national-conference-on-energy-efficiency-as-a-resource/
LOCATION:DoubleTree by Hilton Hotel\, Philadelphia Center City\, Philadelphia
END:VEVENT
END:VCALENDAR