BEGIN:VCALENDAR
VERSION:2.0
PRODID:-//NZEB - ECPv6.1.3//NONSGML v1.0//EN
CALSCALE:GREGORIAN
METHOD:PUBLISH
X-WR-CALNAME:NZEB
X-ORIGINAL-URL:https://nzeb.in
X-WR-CALDESC:Events for NZEB
REFRESH-INTERVAL;VALUE=DURATION:PT1H
X-Robots-Tag:noindex
X-PUBLISHED-TTL:PT1H
BEGIN:VTIMEZONE
TZID:Asia/Kolkata
BEGIN:STANDARD
TZOFFSETFROM:+0530
TZOFFSETTO:+0530
TZNAME:IST
DTSTART:20210101T000000
END:STANDARD
END:VTIMEZONE
BEGIN:VEVENT
DTSTART;TZID=Asia/Kolkata:20211001T080000
DTEND;TZID=Asia/Kolkata:20211003T170000
DTSTAMP:20260423T032233
CREATED:20211001T023000Z
LAST-MODIFIED:20201023T151323Z
UID:14896-1633075200-1633280400@nzeb.in
SUMMARY:Building Simulation 2021 Conference
DESCRIPTION:BS2021 will be organized as a safe physical conference in September 2021 in Bruges.\nFor the BS2021-OC a live face-to-face meeting is key. Therefore it will not be switched to an on-line or hybrid alternative.\nOnly in the case of force majeure (e.g. traveling is not allowed by the authorities\, social distancing puts a limit on the allowed participants below the treshold set\, …) there will be a postponement to Aug 2022
URL:https://nzeb.in/event/building-simulation-2021-conference/
LOCATION:Bruges\, Belgium
ORGANIZER;CN="International%20Building%20Performance%20Simulation%20Association":MAILTO:info@bs2021.org
END:VEVENT
END:VCALENDAR