BEGIN:VCALENDAR
VERSION:2.0
PRODID:-//NZEB - ECPv6.1.3//NONSGML v1.0//EN
CALSCALE:GREGORIAN
METHOD:PUBLISH
X-WR-CALNAME:NZEB
X-ORIGINAL-URL:https://nzeb.in
X-WR-CALDESC:Events for NZEB
REFRESH-INTERVAL;VALUE=DURATION:PT1H
X-Robots-Tag:noindex
X-PUBLISHED-TTL:PT1H
BEGIN:VTIMEZONE
TZID:Asia/Kolkata
BEGIN:STANDARD
TZOFFSETFROM:+0530
TZOFFSETTO:+0530
TZNAME:IST
DTSTART:20210101T000000
END:STANDARD
END:VTIMEZONE
BEGIN:VEVENT
DTSTART;TZID=Asia/Kolkata:20210806T123000
DTEND;TZID=Asia/Kolkata:20210806T133000
DTSTAMP:20260423T015450
CREATED:20210806T070000Z
LAST-MODIFIED:20210727T170356Z
UID:16437-1628253000-1628256600@nzeb.in
SUMMARY:Building Sense Now Master Class – Low Tech Design
DESCRIPTION:The joint Master Classes of the Building Sense Now initiative and MISEREOR offer access to country-specific building knowledge in line with climate-friendly and culturally sensitive practice by and for architects and civil engineers worldwide. In this master class\, Prof Thomas Auer provides insight into his work on building technology and climate responsive design. In addition to the keynote lecture\, there will be time for your questions. \nMore info on : https://www.buildingsensenow.com/events/
URL:https://nzeb.in/event/master-class-low-tech-design/
LOCATION:online event
END:VEVENT
END:VCALENDAR