BEGIN:VCALENDAR
VERSION:2.0
PRODID:-//NZEB - ECPv6.1.3//NONSGML v1.0//EN
CALSCALE:GREGORIAN
METHOD:PUBLISH
X-ORIGINAL-URL:https://nzeb.in
X-WR-CALDESC:Events for NZEB
REFRESH-INTERVAL;VALUE=DURATION:PT1H
X-Robots-Tag:noindex
X-PUBLISHED-TTL:PT1H
BEGIN:VTIMEZONE
TZID:Asia/Kolkata
BEGIN:STANDARD
TZOFFSETFROM:+0530
TZOFFSETTO:+0530
TZNAME:IST
DTSTART:20210101T000000
END:STANDARD
END:VTIMEZONE
BEGIN:VEVENT
DTSTART;TZID=Asia/Kolkata:20210708T233000
DTEND;TZID=Asia/Kolkata:20210709T003000
DTSTAMP:20260423T004024
CREATED:20210708T180000Z
LAST-MODIFIED:20210705T063734Z
UID:16427-1625787000-1625790600@nzeb.in
SUMMARY:Battery Storage in the recovery to NET ZERO CARBON!
DESCRIPTION:Paul Cole from powerQuad\, will present an overview of battery storage and how this technology is vital for a decarbonised electricity supply in the post covid-19 world. \nPaul will give a summary of the need to decarbonise\, and how energy storage systems and hardware have improved. As well as showing how software tools such as AI & blockchain can help to drive change and help deliver decentralised and digitised grid flexibility.
URL:https://nzeb.in/event/battery-storage-in-the-recovery-to-net-zero-carbon/
LOCATION:online event
END:VEVENT
END:VCALENDAR