BEGIN:VCALENDAR
VERSION:2.0
PRODID:-//NZEB - ECPv6.1.3//NONSGML v1.0//EN
CALSCALE:GREGORIAN
METHOD:PUBLISH
X-WR-CALNAME:NZEB
X-ORIGINAL-URL:https://nzeb.in
X-WR-CALDESC:Events for NZEB
REFRESH-INTERVAL;VALUE=DURATION:PT1H
X-Robots-Tag:noindex
X-PUBLISHED-TTL:PT1H
BEGIN:VTIMEZONE
TZID:Asia/Kolkata
BEGIN:STANDARD
TZOFFSETFROM:+0530
TZOFFSETTO:+0530
TZNAME:IST
DTSTART:20210101T000000
END:STANDARD
END:VTIMEZONE
BEGIN:VEVENT
DTSTART;TZID=Asia/Kolkata:20210629T183000
DTEND;TZID=Asia/Kolkata:20210629T193000
DTSTAMP:20260422T231618
CREATED:20210629T130000Z
LAST-MODIFIED:20210621T053607Z
UID:16394-1624991400-1624995000@nzeb.in
SUMMARY:All about Carbon: The journey to Net Zero\, carbon offsetting and scope 3 emissions
DESCRIPTION:During the webinar on ‘All about Carbon’  BSI experts will help one to discover crucial aspects of business that will affect the journey to Net Zero\, including emissions reduction\, carbon offsetting and application of the principles of the circular economy.\nGreenhouse gas emissions are categorized into three groups or ‘Scopes’ by the most widely-used international accounting tool\, the Greenhouse Gas (GHG) Protocol. \n\nScope 1 covers direct emissions from owned or controlled sources\nScope 2 covers indirect emissions from the generation of purchased electricity\, steam\, heating and cooling consumed by the reporting company\nScope 3 includes all other indirect emissions that occur in a company’s value chain
URL:https://nzeb.in/event/all-about-carbon-the-journey-to-net-zero-carbon-offsetting-and-scope-3-emissions/
LOCATION:online event
END:VEVENT
END:VCALENDAR