BEGIN:VCALENDAR
VERSION:2.0
PRODID:-//NZEB - ECPv6.1.3//NONSGML v1.0//EN
CALSCALE:GREGORIAN
METHOD:PUBLISH
X-WR-CALNAME:NZEB
X-ORIGINAL-URL:https://nzeb.in
X-WR-CALDESC:Events for NZEB
REFRESH-INTERVAL;VALUE=DURATION:PT1H
X-Robots-Tag:noindex
X-PUBLISHED-TTL:PT1H
BEGIN:VTIMEZONE
TZID:Asia/Kolkata
BEGIN:STANDARD
TZOFFSETFROM:+0530
TZOFFSETTO:+0530
TZNAME:IST
DTSTART:20210101T000000
END:STANDARD
END:VTIMEZONE
BEGIN:VEVENT
DTSTART;TZID=Asia/Kolkata:20210618T100000
DTEND;TZID=Asia/Kolkata:20210618T110000
DTSTAMP:20260422T231617
CREATED:20210618T053000Z
LAST-MODIFIED:20210609T045238Z
UID:16383-1624010400-1624014000@nzeb.in
SUMMARY:NZEB Knowledge Series: Future of Carbon Neutral Design
DESCRIPTION:Buildings are connected resources of a larger built environment. Buildings lock in substantial carbon emissions through material choices and continue to emit carbon during their operations through life. Building design decisions made now will be responsible for carbon emissions for the next several decades. This presentation will provide an overview of the future of carbon neutral design. Ideas & strategies to enable a shift from energy efficiency to sophisticated ways to think holistically on a regional scale will be presented. \nAbout the speaker:  Shruti Kasarekar is an award-winning sustainability consultant with 15 years of experience in advancing sustainability within the built environment. She has led multiple highly ambitious and complex projects – from laboratories\, museums to master plans. Her work on sustainability in the built environment has been presented at several leading industry conferences. Shruti combines technical competency and creativity across multiple disciplines – architecture\, engineering and master planning and has deep expertise in passive systems\, energy optimization\, and carbon management. \nThis webinar is part of ‘NZEB Knowledge Series’ – an initiative supported by USAID’s MAITREE program (http://maitree.edsglobal.com) to accelerate the discussions and catalyse actions on Net Zero Energy Buildings in India.
URL:https://nzeb.in/event/nzeb-knowledge-series-future-of-carbon-neutral-design/
LOCATION:online event
ORGANIZER;CN="NZEB%20Team":MAILTO:nzeb@edsglobal.com
END:VEVENT
END:VCALENDAR