BEGIN:VCALENDAR
VERSION:2.0
PRODID:-//NZEB - ECPv6.1.3//NONSGML v1.0//EN
CALSCALE:GREGORIAN
METHOD:PUBLISH
X-WR-CALNAME:NZEB
X-ORIGINAL-URL:https://nzeb.in
X-WR-CALDESC:Events for NZEB
REFRESH-INTERVAL;VALUE=DURATION:PT1H
X-Robots-Tag:noindex
X-PUBLISHED-TTL:PT1H
BEGIN:VTIMEZONE
TZID:Asia/Kolkata
BEGIN:STANDARD
TZOFFSETFROM:+0530
TZOFFSETTO:+0530
TZNAME:IST
DTSTART:20210101T000000
END:STANDARD
END:VTIMEZONE
BEGIN:VEVENT
DTSTART;TZID=Asia/Kolkata:20210614T080000
DTEND;TZID=Asia/Kolkata:20210615T170000
DTSTAMP:20260422T231617
CREATED:20210614T023000Z
LAST-MODIFIED:20201106T050019Z
UID:14943-1623657600-1623776400@nzeb.in
SUMMARY:International Conference on Net-Zero Energy Building ICNZEB 2021:15
DESCRIPTION:ICNZEB 2021: 15. International Conference on Net-Zero Energy Building aims to bring together leading academic scientists\, researchers and research scholars to exchange and share their experiences and research results on all aspects of Net-Zero Energy Building. It also provides a premier interdisciplinary platform for researchers\, practitioners and educators to present and discuss the most recent innovations\, trends\, and concerns as well as practical challenges encountered and solutions adopted in the fields of Net-Zero Energy Building.
URL:https://nzeb.in/event/international-conference-on-net-zero-energy-building-icnzeb-202115/
LOCATION:online event
ATTACH;FMTTYPE=image/jpeg:https://nzeb.in/wp-content/uploads/2020/11/ICZ.jpg
END:VEVENT
BEGIN:VEVENT
DTSTART;TZID=Asia/Kolkata:20210615T153000
DTEND;TZID=Asia/Kolkata:20210615T170000
DTSTAMP:20260422T231617
CREATED:20210524T111253Z
LAST-MODIFIED:20210524T111253Z
UID:16377-1623771000-1623776400@nzeb.in
SUMMARY:The Net Zero series : Towards a sustainable future - Sustainable Buildings
DESCRIPTION:The net zero series sheds light on the work already undertaken by UKRI’s flagship programme -the Industrial Strategy Challenge Fund to address the key challenges that will help the UK build back greener. It will bring together world-renowned researchers and innovators across the breadth of our funding disciplines to discuss the need for innovative solutions to heat our homes\, travel to work\, develop and transform our industries\, cater to our diet\, enjoy our leisure time\, and prosper from a cleaner\, healthier environment in parallel with growing our economy.
URL:https://nzeb.in/event/the-net-zero-series-towards-a-sustainable-future-sustainable-buildings/
LOCATION:online event
END:VEVENT
END:VCALENDAR