BEGIN:VCALENDAR
VERSION:2.0
PRODID:-//NZEB - ECPv6.1.3//NONSGML v1.0//EN
CALSCALE:GREGORIAN
METHOD:PUBLISH
X-WR-CALNAME:NZEB
X-ORIGINAL-URL:https://nzeb.in
X-WR-CALDESC:Events for NZEB
REFRESH-INTERVAL;VALUE=DURATION:PT1H
X-Robots-Tag:noindex
X-PUBLISHED-TTL:PT1H
BEGIN:VTIMEZONE
TZID:Asia/Kolkata
BEGIN:STANDARD
TZOFFSETFROM:+0530
TZOFFSETTO:+0530
TZNAME:IST
DTSTART:20210101T000000
END:STANDARD
END:VTIMEZONE
BEGIN:VEVENT
DTSTART;TZID=Asia/Kolkata:20210519T140000
DTEND;TZID=Asia/Kolkata:20210519T150000
DTSTAMP:20260422T214406
CREATED:20210518T061801Z
LAST-MODIFIED:20210518T061801Z
UID:16357-1621432800-1621436400@nzeb.in
SUMMARY:Energy efficient residential ventilation solutions - RIBA & CIBSE CPD
DESCRIPTION:Agenda: demonstration and discussion on residential ventilation systems with a CIBSE & RIBA APPROVED CPD webinar. \n\nMVHR heat recovery systems\nAdvantages of semi-rigid radial ducting\nBuilding regulation requirements\nEnergy efficiency and specific fan power\nTechnical specification- SAP appendix Q\nFire protection\nApplications and aesthetics
URL:https://nzeb.in/event/energy-efficient-residential-ventilation-solutions-riba-cibse-cpd/
LOCATION:online event
END:VEVENT
END:VCALENDAR