BEGIN:VCALENDAR
VERSION:2.0
PRODID:-//NZEB - ECPv6.1.3//NONSGML v1.0//EN
CALSCALE:GREGORIAN
METHOD:PUBLISH
X-WR-CALNAME:NZEB
X-ORIGINAL-URL:https://nzeb.in
X-WR-CALDESC:Events for NZEB
REFRESH-INTERVAL;VALUE=DURATION:PT1H
X-Robots-Tag:noindex
X-PUBLISHED-TTL:PT1H
BEGIN:VTIMEZONE
TZID:Asia/Kolkata
BEGIN:STANDARD
TZOFFSETFROM:+0530
TZOFFSETTO:+0530
TZNAME:IST
DTSTART:20210101T000000
END:STANDARD
END:VTIMEZONE
BEGIN:VEVENT
DTSTART;TZID=Asia/Kolkata:20210429T100000
DTEND;TZID=Asia/Kolkata:20210429T120000
DTSTAMP:20260422T200152
CREATED:20210415T115328Z
LAST-MODIFIED:20210415T115328Z
UID:16126-1619690400-1619697600@nzeb.in
SUMMARY:Conference on PV Mounting Tech: Structure & Tracker Technology Forum
DESCRIPTION:Solar trackers significantly boost the amount of electricity through the constant orientation of the PV panels towards the sun for the whole day. This virtual conference will focus on structure\, tracker\, and mounting systems for both utility and solar rooftop projects in India. This event will also discuss the best combination of module-tracker for achieving the highest power yield.
URL:https://nzeb.in/event/conference-on-pv-mounting-tech-structure-tracker-technology-forum/
LOCATION:online event
END:VEVENT
END:VCALENDAR