BEGIN:VCALENDAR
VERSION:2.0
PRODID:-//NZEB - ECPv6.1.3//NONSGML v1.0//EN
CALSCALE:GREGORIAN
METHOD:PUBLISH
X-ORIGINAL-URL:https://nzeb.in
X-WR-CALDESC:Events for NZEB
REFRESH-INTERVAL;VALUE=DURATION:PT1H
X-Robots-Tag:noindex
X-PUBLISHED-TTL:PT1H
BEGIN:VTIMEZONE
TZID:Asia/Kolkata
BEGIN:STANDARD
TZOFFSETFROM:+0530
TZOFFSETTO:+0530
TZNAME:IST
DTSTART:20210101T000000
END:STANDARD
END:VTIMEZONE
BEGIN:VEVENT
DTSTART;TZID=Asia/Kolkata:20210420T080000
DTEND;TZID=Asia/Kolkata:20210423T170000
DTSTAMP:20260422T200245
CREATED:20210420T023000Z
LAST-MODIFIED:20210325T134701Z
UID:14951-1618905600-1619197200@nzeb.in
SUMMARY:Living Future 2021
DESCRIPTION:This is the annual conference by the International Living Future Institute. \nLiving Future brings together a community of leading deep-green thought leaders and practitioners to share their insights around building socially just\, culturally rich\, and ecologically restorative buildings\, communities and products. More than 1\,500 attendees from around the world will collectively build the vision of a Living Future and collaboratively seek solutions to the most daunting global issues of our time.
URL:https://nzeb.in/event/living-future-2021/
LOCATION:online event
END:VEVENT
BEGIN:VEVENT
DTSTART;TZID=Asia/Kolkata:20210423T160000
DTEND;TZID=Asia/Kolkata:20210423T170000
DTSTAMP:20260422T200245
CREATED:20210415T114307Z
LAST-MODIFIED:20210415T114307Z
UID:16120-1619193600-1619197200@nzeb.in
SUMMARY:Webinar NZEB Knowledge Series | Net Zero Design Showcase - Student Housing at St. Andrews
DESCRIPTION:This webinar aims to cover the fundamentals to achieve the Net Zero Energy goal. Speakers will highlight a case study from St Andrews student’s hostel at Gurugram\, India covering its design priorities for thermal comfort and functionality to become an exemplar of zero energy design. This webinar is part of the ‘NZEB Knowledge Series’ – an initiative supported by USAID’s MAITREE program catalyzing actions on Net Zero Energy Buildings in India.
URL:https://nzeb.in/event/webinar-nzeb-knowledge-series-net-zero-design-showcase-student-housing-at-st-andrews/
LOCATION:online event
END:VEVENT
BEGIN:VEVENT
DTSTART;TZID=Asia/Kolkata:20210423T160000
DTEND;TZID=Asia/Kolkata:20210423T170000
DTSTAMP:20260422T200245
CREATED:20210423T103000Z
LAST-MODIFIED:20210412T083412Z
UID:16086-1619193600-1619197200@nzeb.in
SUMMARY:NZEB Series | Net Zero Design Show Case - Student Housing at St Andrew
DESCRIPTION:Climate Responsive Design is fundamental to achieve the Net Zero Energy goal. St.Andrews student’s hostel at Gurugram\, India by Zero Energy Design Labs (ZED) embodies this and more. The design prioritizes thermal comfort and functionality to become an exemplar of zero energy design. Strategies such as appropriate form and orientation\, materiality and creation of spaces in the hostel block are based on climatic conditions\, sun path analysis and air movement. Sachin Rastogi\, the project architect will be sharing the process from concept to occupancy. \nZED Lab is a Delhi-based\, research-driven\, architecture and interior design studio specializing in net-zero energy buildings. The firm works collaboratively to formulate strategies that draw inspiration from the Indian vernacular for present and future needs. The studio seeks to push the envelope for economically viable building systems\, optimized for energy savings. \nAbout the speaker:\nSachin Rastogi\nFounder Director and Design Principal of Zero Energy Design Labs\, Architect Sachin Rastogi pioneers designs of buildings that are focussed on energy efficiency and zero energy consumption. Through his work at ZED Labs\, he has led the design process and been responsible for a range of prestigious projects across diverse typologies such as residential\, hospitality\, institutional\, commercial and industrial- all focused on zero energy buildings\, that qualify the global standard of green building design. Rastogi’s expertise lies in passive and low energy solutions for high rise residential buildings in composite climates. To him\, sustainability is not an isolated layer in design\, but an indispensable component that enhances the experience of the built environment. \nThis webinar is part of ‘NZEB Knowledge Series’ – an initiative supported by USAID’s MAITREE program (http://maitree.edsglobal.com) to accelerate the discussions and catalyse actions on Net Zero Energy Buildings in India.
URL:https://nzeb.in/event/st-andrew/
LOCATION:Online Live Webinar
END:VEVENT
END:VCALENDAR