BEGIN:VCALENDAR
VERSION:2.0
PRODID:-//NZEB - ECPv6.1.3//NONSGML v1.0//EN
CALSCALE:GREGORIAN
METHOD:PUBLISH
X-WR-CALNAME:NZEB
X-ORIGINAL-URL:https://nzeb.in
X-WR-CALDESC:Events for NZEB
REFRESH-INTERVAL;VALUE=DURATION:PT1H
X-Robots-Tag:noindex
X-PUBLISHED-TTL:PT1H
BEGIN:VTIMEZONE
TZID:Asia/Kolkata
BEGIN:STANDARD
TZOFFSETFROM:+0530
TZOFFSETTO:+0530
TZNAME:IST
DTSTART:20210101T000000
END:STANDARD
END:VTIMEZONE
BEGIN:VEVENT
DTSTART;VALUE=DATE:20210322
DTEND;VALUE=DATE:20210326
DTSTAMP:20260422T183449
CREATED:20210321T183000Z
LAST-MODIFIED:20201216T120150Z
UID:15372-1616371200-1616716799@nzeb.in
SUMMARY:The Economist's Sustainability Week
DESCRIPTION:Limiting global warming to 1.5°C will require unparalleled transformations to businesses\, industries and supply chains. Investors and citizens demand action. Firms are responding: with more and more signing on to bold targets grounded in climate science. But while sustainability is far from languishing on the corporate periphery\, far more effort is needed―and fast. \nOver four days\, The Economist’s sixth annual Sustainability Week will provide actionable insights and solutions to help businesses on their path to greater sustainability. We will explore how firms can effectively measure\, analyse\, transform and scale their sustainability initiatives. How can sufficient investment be unlocked? How can good data be generated? What incentives are needed to stimulate innovation? \nWho should attend?\n\nSenior sustainability and CSR professionals – all industries\nImpact investors / responsible investors\nCharities and organisations with an interest in sustainability issues\nSustainability academics e.g. researchers and professors\nGovernment bodies / departments who focus on the environment
URL:https://nzeb.in/event/the-economists-sustainability-week/
LOCATION:online event
END:VEVENT
END:VCALENDAR