BEGIN:VCALENDAR
VERSION:2.0
PRODID:-//NZEB - ECPv6.1.3//NONSGML v1.0//EN
CALSCALE:GREGORIAN
METHOD:PUBLISH
X-WR-CALNAME:NZEB
X-ORIGINAL-URL:https://nzeb.in
X-WR-CALDESC:Events for NZEB
REFRESH-INTERVAL;VALUE=DURATION:PT1H
X-Robots-Tag:noindex
X-PUBLISHED-TTL:PT1H
BEGIN:VTIMEZONE
TZID:Asia/Kolkata
BEGIN:STANDARD
TZOFFSETFROM:+0530
TZOFFSETTO:+0530
TZNAME:IST
DTSTART:20210101T000000
END:STANDARD
END:VTIMEZONE
BEGIN:VEVENT
DTSTART;TZID=Asia/Kolkata:20210310T080000
DTEND;TZID=Asia/Kolkata:20210311T170000
DTSTAMP:20260422T183521
CREATED:20210310T042415Z
LAST-MODIFIED:20210310T042415Z
UID:15975-1615363200-1615482000@nzeb.in
SUMMARY:CIBSE UAE Net Zero Conference
DESCRIPTION:The CIBSE UAE Net Zero Virtual Conference is a 2-day seminar that aims to provide a knowledge sharing platform for the general public to facilitate awareness regarding the growing trends in going net zero gaining GCC Regional and Global Perspectives from various stakeholders such as Academia\, Green NGOs\, Contractors\, Consultants\, and Technology Experts who would be presenting \n• Net Zero Regulatory Trends\, \n• Academic research\, \n• Evidence based Case studies on Actual projects
URL:https://nzeb.in/event/cibse-uae-net-zero-conference/
LOCATION:online event
END:VEVENT
END:VCALENDAR