BEGIN:VCALENDAR
VERSION:2.0
PRODID:-//NZEB - ECPv6.1.3//NONSGML v1.0//EN
CALSCALE:GREGORIAN
METHOD:PUBLISH
X-WR-CALNAME:NZEB
X-ORIGINAL-URL:https://nzeb.in
X-WR-CALDESC:Events for NZEB
REFRESH-INTERVAL;VALUE=DURATION:PT1H
X-Robots-Tag:noindex
X-PUBLISHED-TTL:PT1H
BEGIN:VTIMEZONE
TZID:Asia/Kolkata
BEGIN:STANDARD
TZOFFSETFROM:+0530
TZOFFSETTO:+0530
TZNAME:IST
DTSTART:20210101T000000
END:STANDARD
END:VTIMEZONE
BEGIN:VEVENT
DTSTART;TZID=Asia/Kolkata:20210210T133000
DTEND;TZID=Asia/Kolkata:20210212T203000
DTSTAMP:20260422T163522
CREATED:20210210T080000Z
LAST-MODIFIED:20210208T043746Z
UID:15946-1612963800-1613161800@nzeb.in
SUMMARY:World Sustainable Development Summit (WSDS) 2021
DESCRIPTION:The Summit series bring together governments\, business leaders\, academicians\, climate scientists\, youth\, and the civil society in the fight against climate change. With the voices of women and youth at the forefront\, these vital discussions from the Global South will contribute to the 26th UN Climate Change Conference of the Parties in Glasgow. \nSince its inception in 2001\, World Sustainable Development Summit (WSDS) has been a significant platform for showcasing India’s plans\, policies\, priorities and actions by identifying the most topical issues\, of environment and sustainability.
URL:https://nzeb.in/event/world-sustainable-development-summit-wsds-2021/
LOCATION:online event
END:VEVENT
END:VCALENDAR