BEGIN:VCALENDAR
VERSION:2.0
PRODID:-//NZEB - ECPv6.1.3//NONSGML v1.0//EN
CALSCALE:GREGORIAN
METHOD:PUBLISH
X-WR-CALNAME:NZEB
X-ORIGINAL-URL:https://nzeb.in
X-WR-CALDESC:Events for NZEB
REFRESH-INTERVAL;VALUE=DURATION:PT1H
X-Robots-Tag:noindex
X-PUBLISHED-TTL:PT1H
BEGIN:VTIMEZONE
TZID:Asia/Kolkata
BEGIN:STANDARD
TZOFFSETFROM:+0530
TZOFFSETTO:+0530
TZNAME:IST
DTSTART:20210101T000000
END:STANDARD
END:VTIMEZONE
BEGIN:VEVENT
DTSTART;VALUE=DATE:20210118
DTEND;VALUE=DATE:20210122
DTSTAMP:20260422T145754
CREATED:20201216T135005Z
LAST-MODIFIED:20201216T135005Z
UID:15377-1610928000-1611273599@nzeb.in
SUMMARY:Abu Dhabi Sustainability Week (ADSW)
DESCRIPTION:Abu Dhabi Sustainability Week (ADSW) is a global platform for accelerating the world’s sustainable development. The week brings together a unique fusion of policy makers\, industry specialists\, technology pioneers and the next generation of sustainability leaders. Through its initiatives and events\, ADSW is a catalyst for sharing knowledge\, implementing strategies and delivering solutions to drive human progress. ADSW is committed to furthering our understanding of the major social\, economic and environmental trends shaping the world’s sustainable development. \nIn response to the changing global landscape\, ADSW is taking a holistic approach to sustainability to align more closely with the UAE Vision 2021 and the United Nations Sustainable Development Goals (SDGs). The pillars of ADSW address Energy and Climate Change\, Water and Food\, Future of Mobility\, Space\, Biotechnology in Health\, Tech for Good. Cutting across ADSW programmes and pillars include Artificial Intelligence\, Youth and Community.
URL:https://nzeb.in/event/abu-dhabi-sustainability-week-adsw/
LOCATION:online event
END:VEVENT
END:VCALENDAR