BEGIN:VCALENDAR
VERSION:2.0
PRODID:-//NZEB - ECPv6.1.3//NONSGML v1.0//EN
CALSCALE:GREGORIAN
METHOD:PUBLISH
X-WR-CALNAME:NZEB
X-ORIGINAL-URL:https://nzeb.in
X-WR-CALDESC:Events for NZEB
REFRESH-INTERVAL;VALUE=DURATION:PT1H
X-Robots-Tag:noindex
X-PUBLISHED-TTL:PT1H
BEGIN:VTIMEZONE
TZID:Asia/Kolkata
BEGIN:STANDARD
TZOFFSETFROM:+0530
TZOFFSETTO:+0530
TZNAME:IST
DTSTART:20210101T000000
END:STANDARD
END:VTIMEZONE
BEGIN:VEVENT
DTSTART;VALUE=DATE:20210114
DTEND;VALUE=DATE:20210117
DTSTAMP:20260422T145839
CREATED:20201111T015759Z
LAST-MODIFIED:20201111T015759Z
UID:14995-1610582400-1610841599@nzeb.in
SUMMARY:Urban ARC 2021 | Urban Imaginaries
DESCRIPTION:The fifth edition of Urban ARC\, the Annual Research Conference of the Indian Institute for Human Settlements\, will be conducted between the 14 – 16 January 2021. The theme for this edition is ‘Urban Imaginaries: Past\, Present and Future’. The idea of imaginaries holds a pivotal place in inquiry. Central to the very nature of knowledge production is the imagination of a better world. It is in keeping with this centrality of imaginations that Urban ARC 2021 invites papers and panels from a wide range of disciplinary spaces\, situated in theoretical\, methodological or practice-based approaches to the urban. \nThe conference aims to provide a critical and fruitful space for engagement across themes\, sectors\, methodologies and disciplines in order to enable an understanding and harness the potential of Urban Imaginaries. The conference will also host a special track focusing on post-COVID urban futures. \nDates and Procedures: \n\n\n\n23 November 2020\nDeadline for Submitting Abstracts\n\n\n4 December 2020\nAnnouncement of Selected Papers\n\n\n5 January 2021\nSubmission of Completed Papers\n\n\n14 – 16 January 2021\nUrban ARC 2021
URL:https://nzeb.in/event/urban-arc-2021-urban-imaginaries/
LOCATION:Indian Institute for Human Settlements (IIHS)\, India
END:VEVENT
END:VCALENDAR