BEGIN:VCALENDAR
VERSION:2.0
PRODID:-//NZEB - ECPv6.1.3//NONSGML v1.0//EN
CALSCALE:GREGORIAN
METHOD:PUBLISH
X-WR-CALNAME:NZEB
X-ORIGINAL-URL:https://nzeb.in
X-WR-CALDESC:Events for NZEB
REFRESH-INTERVAL;VALUE=DURATION:PT1H
X-Robots-Tag:noindex
X-PUBLISHED-TTL:PT1H
BEGIN:VTIMEZONE
TZID:Asia/Kolkata
BEGIN:STANDARD
TZOFFSETFROM:+0530
TZOFFSETTO:+0530
TZNAME:IST
DTSTART:20200101T000000
END:STANDARD
END:VTIMEZONE
BEGIN:VEVENT
DTSTART;VALUE=DATE:20201110
DTEND;VALUE=DATE:20201113
DTSTAMP:20260422T115326
CREATED:20201109T183000Z
LAST-MODIFIED:20201107T073316Z
UID:14939-1604966400-1605225599@nzeb.in
SUMMARY:Net Zero Live 2020 - Accelerating Climate Action
DESCRIPTION:Net-Zero Live 2020 is aimed at uniting businesses\, policymakers\, investors\, NGO’s\, product and solutions providers around a common purpose: to spark new ideas and actions on the path to a sustainable future. This online event will include high-level keynote talks\, interactive panel discussions\, facilitated networking sessions and educational masterclasses\, as well as virtual exhibition booths showcasing the cutting-edge net-zero technologies and services that will shape the decade ahead.
URL:https://nzeb.in/event/net-zero-live-2020-accelerating-climate-action/
LOCATION:online event
ATTACH;FMTTYPE=image/jpeg:https://nzeb.in/wp-content/uploads/2020/11/netzero.jpeg
END:VEVENT
BEGIN:VEVENT
DTSTART;TZID=Asia/Kolkata:20201110T080000
DTEND;TZID=Asia/Kolkata:20201112T170000
DTSTAMP:20260422T115326
CREATED:20201110T023000Z
LAST-MODIFIED:20201103T141316Z
UID:14364-1604995200-1605200400@nzeb.in
SUMMARY:Greenbuild International Conference & Expo 2020
DESCRIPTION:Greenbuild is the world’s largest conference and expo dedicated to green building. \nThe Greenbuild International Conference & Expo is moving its 2020 event to an all-virtual format. The capstone event will take place November 10-12. This cutting-edge virtual experience will include all the key elements attendees and partners have come to expect from our physical event. Interactive and collaborative education sessions\, continuing education\, virtual booths\, future-focused keynotes from high-profile voices and valuable networking.
URL:https://nzeb.in/event/greenbuild-international-conference-expo-2020/
LOCATION:online event
ATTACH;FMTTYPE=image/gif:https://nzeb.in/wp-content/uploads/2020/11/Event_Greenbuild.gif
END:VEVENT
BEGIN:VEVENT
DTSTART;TZID=Asia/Kolkata:20201111T103000
DTEND;TZID=Asia/Kolkata:20201111T113000
DTSTAMP:20260422T115326
CREATED:20201111T050000Z
LAST-MODIFIED:20201102T170331Z
UID:14551-1605090600-1605094200@nzeb.in
SUMMARY:NZEB Knowledge Series | A Climate Based Approach to Carbon-Neutral design
DESCRIPTION:Register Now \n \nEnergy-efficient zero carbon buildings can only be designed after first understanding climate and the design strategies that can be implemented to respond to it. This presentation will describe the Performance-Driven Design workflow at CallisonRTKL using different building simulation tools and applied research results with examples from practice. Research and analysis on carbon neutral design by students at Cal Poly Pomona in the United States carried out under the mentorship of Pablo La Roche will also be shared in the webinar. \nAbout the speaker:\nPablo La Roche\nAssociate VP\, Callison RTKL\nProfessor\, Cal Poly Pomona University \nPablo La Roche is an associate vice president in CallisonRTKL’s Los Angeles office and a leader for the firm’s Performance-Driven DesignTM initiatives\, focusing on sustainable design for the commercial practice group. His expansive portfolio includes sustainable buildings all over the world designed with state-of-the-art tools. A tenured professor of architecture at Cal Poly Pomona University\, Pablo is also an accomplished author; he has written more than 130 technical papers for journals and conferences\, and his book Carbon Neutral Architectural Design placed in the top ten in Amazon’s Energy and Buildings category. He is also past president of the Society of Building Science Educators and chair of the solar buildings division of the American Solar Energy Society. \nThis webinar is part of ‘NZEB Knowledge Series’ – an initiative supported by USAID’s MAITREE program to accelerate the discussions and catalyse actions on Net Zero Energy Buildings in India.
URL:https://nzeb.in/event/a-climate-based-approach-to-carbon-neutral-design/
LOCATION:Online Live Webinar
ORGANIZER;CN="NZEB%20Team":MAILTO:nzeb@edsglobal.com
END:VEVENT
END:VCALENDAR