BEGIN:VCALENDAR
VERSION:2.0
PRODID:-//NZEB - ECPv6.1.3//NONSGML v1.0//EN
CALSCALE:GREGORIAN
METHOD:PUBLISH
X-ORIGINAL-URL:https://nzeb.in
X-WR-CALDESC:Events for NZEB
REFRESH-INTERVAL;VALUE=DURATION:PT1H
X-Robots-Tag:noindex
X-PUBLISHED-TTL:PT1H
BEGIN:VTIMEZONE
TZID:Asia/Kolkata
BEGIN:STANDARD
TZOFFSETFROM:+0530
TZOFFSETTO:+0530
TZNAME:IST
DTSTART:20200101T000000
END:STANDARD
END:VTIMEZONE
BEGIN:VEVENT
DTSTART;TZID=Asia/Kolkata:20200917T080000
DTEND;TZID=Asia/Kolkata:20201029T170000
DTSTAMP:20260422T103327
CREATED:20201006T045707Z
LAST-MODIFIED:20201019T110104Z
UID:14429-1600329600-1603990800@nzeb.in
SUMMARY:NZ20 | Net Zero Webinar Series
DESCRIPTION:The Net Zero Webinar Series is an ongoing platform for you to expand your knowledge of innovations and trends in climate\, carbon\, energy\, water\, waste\, and transit together to build a net zero future for all people. \nThe series allows the experts to extend the programming beyond a two-day conference and highlight educational content that drills down on a particular topic or theme on an ongoing basis.
URL:https://nzeb.in/event/nz20-net-zero-webinar-series/
LOCATION:Online Live Webinar
ORGANIZER;CN="Verdical%20Group":MAILTO:hello@verdicalevents.com
END:VEVENT
BEGIN:VEVENT
DTSTART;TZID=Asia/Kolkata:20201023T150000
DTEND;TZID=Asia/Kolkata:20201023T163000
DTSTAMP:20260422T103327
CREATED:20201023T093000Z
LAST-MODIFIED:20201019T062438Z
UID:14785-1603465200-1603470600@nzeb.in
SUMMARY:Integration of Renewable Energy in Buildings in India
DESCRIPTION:The webinar is expected to discuss different technological options and the enabling regulatory and policy environment to ensure the effective implementation of the models developed under the project. The stakeholders/participants are required to provide inputs about the necessary steps to be taken to customize technologies suitable as per the local conditions before installation and how developers and technology providers should see the market potential for increased use of renewable energy technologies in buildings in India. \nIn India\, Swiss Development and Cooperation (SDC) has been supporting a project named “Integration of Renewable Energy in Buildings in India”. The broad objective of the project is to design\, showcase and monitor building integrated and innovative renewable energy technologies suitable to and affordable in the local condition and applicable for different categories of buildings\, which are currently given a major push at the government level in India. Considering that the project is expected to demonstrate the technological interventions for building integrated renewable energy and provide capacity building support to government and private sector stakeholders in India to design and construct buildings and housing societies with increased integration of renewable energy technologies\, the project is organizing a webinar with key stakeholders to achieve the following objectives: 1. What kind of technological interventions for building integrated renewable energy can be selected for demonstration of pilots to prove their suitability in different conditions. 2. What kind of models that the project should support for de-risking of investments for promotion of increased use of renewable energy in buildings.
URL:https://nzeb.in/event/integration-of-renewable-energy-in-buildings-in-india/
LOCATION:Online Live Webinar
END:VEVENT
END:VCALENDAR