BEGIN:VCALENDAR
VERSION:2.0
PRODID:-//NZEB - ECPv6.1.3//NONSGML v1.0//EN
CALSCALE:GREGORIAN
METHOD:PUBLISH
X-WR-CALNAME:NZEB
X-ORIGINAL-URL:https://nzeb.in
X-WR-CALDESC:Events for NZEB
REFRESH-INTERVAL;VALUE=DURATION:PT1H
X-Robots-Tag:noindex
X-PUBLISHED-TTL:PT1H
BEGIN:VTIMEZONE
TZID:Asia/Kolkata
BEGIN:STANDARD
TZOFFSETFROM:+0530
TZOFFSETTO:+0530
TZNAME:IST
DTSTART:20200101T000000
END:STANDARD
END:VTIMEZONE
BEGIN:VEVENT
DTSTART;TZID=Asia/Kolkata:20200306T160000
DTEND;TZID=Asia/Kolkata:20200306T170000
DTSTAMP:20260421T165206
CREATED:20200224T132713Z
LAST-MODIFIED:20200302T055914Z
UID:12539-1583510400-1583514000@nzeb.in
SUMMARY:Metrics that Matter- A Business case for Energy Efficiency
DESCRIPTION:How often have you missed getting a decision maker’s approval for your sustainability measures or projects? The reluctance of authority figures often frustrates even the most seasoned practitioners amongst us. Is there a way to navigate this seemingly mysterious decision-making process to good effect? Absolutely\, but it is only possible if one tells compelling stories\, communicating the metrics that matter\, translated to the language of the decision-makers. Join this webinar to find out more.  \nAbout the speaker: Aalok Deshmukh is the Director of Energy Efficiency India at Schneider Electric and has 19 years of extensive experience spanning contributions to more than 125 projects in 11 countries. He is a distinguished name in the domain of implementing energy and sustainability projects as well as leading consulting and research for corporate\, government and non-profit sectors.  \nRegister here: https://register.gotowebinar.com/register/1831953902773995276 \nThis webinar is part of ‘NZEB Knowledge Series’ – an initiative supported by USAID’s MAITREE program (http://maitree.edsglobal.com) to accelerate the discussions and catalyse actions on Net Zero Energy Buildings in India.
URL:https://nzeb.in/event/metrics-matter-business-case-energy-efficiency/
LOCATION:Online Live Webinar
ORGANIZER;CN="EDS":MAILTO:education@edsglobal.com
END:VEVENT
END:VCALENDAR